BEGIN:VCALENDAR
VERSION:2.0
PRODID:-//Patrimoine Gallargues - ECPv5.0.3.1//NONSGML v1.0//EN
CALSCALE:GREGORIAN
METHOD:PUBLISH
X-WR-CALNAME:Patrimoine Gallargues
X-ORIGINAL-URL:https://www.patrimoine-gallargues.fr
X-WR-CALDESC:Évènements pour Patrimoine Gallargues
BEGIN:VTIMEZONE
TZID:Europe/Paris
BEGIN:DAYLIGHT
TZOFFSETFROM:+0100
TZOFFSETTO:+0200
TZNAME:CEST
DTSTART:20240331T010000
END:DAYLIGHT
BEGIN:STANDARD
TZOFFSETFROM:+0200
TZOFFSETTO:+0100
TZNAME:CET
DTSTART:20241027T010000
END:STANDARD
END:VTIMEZONE
BEGIN:VEVENT
DTSTART;TZID=Europe/Paris:20240922T140000
DTEND;TZID=Europe/Paris:20240922T180000
DTSTAMP:20260423T174034
CREATED:20240319T170447Z
LAST-MODIFIED:20240320T110334Z
UID:1761-1727013600-1727028000@www.patrimoine-gallargues.fr
SUMMARY:Ouverture de la tour royale pour les journées du patrimoine
DESCRIPTION:Entrée gratuite \n
URL:https://www.patrimoine-gallargues.fr/date/ouverture-tour-16/
ATTACH;FMTTYPE=image/jpeg:https://www.patrimoine-gallargues.fr/wp-content/uploads/sites/4/2020/09/Priorité_prepa_v2.jpg
END:VEVENT
END:VCALENDAR