BEGIN:VCALENDAR
VERSION:2.0
PRODID:-//Patrimoine Gallargues - ECPv5.0.3.1//NONSGML v1.0//EN
CALSCALE:GREGORIAN
METHOD:PUBLISH
X-WR-CALNAME:Patrimoine Gallargues
X-ORIGINAL-URL:https://www.patrimoine-gallargues.fr
X-WR-CALDESC:Évènements pour Patrimoine Gallargues
BEGIN:VTIMEZONE
TZID:Europe/Paris
BEGIN:DAYLIGHT
TZOFFSETFROM:+0100
TZOFFSETTO:+0200
TZNAME:CEST
DTSTART:20250330T010000
END:DAYLIGHT
BEGIN:STANDARD
TZOFFSETFROM:+0200
TZOFFSETTO:+0100
TZNAME:CET
DTSTART:20251026T010000
END:STANDARD
END:VTIMEZONE
BEGIN:VEVENT
DTSTART;TZID=Europe/Paris:20250309T140000
DTEND;TZID=Europe/Paris:20250309T170000
DTSTAMP:20260423T125427
CREATED:20250213T093637Z
LAST-MODIFIED:20250213T093637Z
UID:1900-1741528800-1741539600@www.patrimoine-gallargues.fr
SUMMARY:Ouverture au public de la tour royale
DESCRIPTION:
URL:https://www.patrimoine-gallargues.fr/date/ouverture-au-public-de-la-tour-royale/
ATTACH;FMTTYPE=application/pdf:https://www.patrimoine-gallargues.fr/wp-content/uploads/sites/4/2025/02/affiche-tour_2025.pdf
END:VEVENT
END:VCALENDAR