BEGIN:VCALENDAR
VERSION:2.0
PRODID:-//Patrimoine Gallargues - ECPv5.0.3.1//NONSGML v1.0//EN
CALSCALE:GREGORIAN
METHOD:PUBLISH
X-WR-CALNAME:Patrimoine Gallargues
X-ORIGINAL-URL:https://www.patrimoine-gallargues.fr
X-WR-CALDESC:Évènements pour Patrimoine Gallargues
BEGIN:VTIMEZONE
TZID:Europe/Paris
BEGIN:DAYLIGHT
TZOFFSETFROM:+0100
TZOFFSETTO:+0200
TZNAME:CEST
DTSTART:20250330T010000
END:DAYLIGHT
BEGIN:STANDARD
TZOFFSETFROM:+0200
TZOFFSETTO:+0100
TZNAME:CET
DTSTART:20251026T010000
END:STANDARD
END:VTIMEZONE
BEGIN:VEVENT
DTSTART;TZID=Europe/Paris:20250228T183000
DTEND;TZID=Europe/Paris:20250228T183000
DTSTAMP:20260423T113438
CREATED:20250224T093039Z
LAST-MODIFIED:20250224T093039Z
UID:1939-1740767400-1740767400@www.patrimoine-gallargues.fr
SUMMARY:"l'Ecole à Gallargues au fil des siècles"
DESCRIPTION:Conférence par Bernard Atger (entrée libre) \n
URL:https://www.patrimoine-gallargues.fr/date/lecole-a-gallargues-au-fil-des-siecles/
LOCATION:Salle de la gare\, avenue de la station
ATTACH;FMTTYPE=application/pdf:https://www.patrimoine-gallargues.fr/wp-content/uploads/sites/4/2025/02/Affiche_conf-Lécole_BA_28févr25.pdf
END:VEVENT
END:VCALENDAR