BEGIN:VCALENDAR
VERSION:2.0
PRODID:-//Patrimoine Gallargues - ECPv5.0.3.1//NONSGML v1.0//EN
CALSCALE:GREGORIAN
METHOD:PUBLISH
X-WR-CALNAME:Patrimoine Gallargues
X-ORIGINAL-URL:https://www.patrimoine-gallargues.fr
X-WR-CALDESC:Évènements pour Patrimoine Gallargues
BEGIN:VTIMEZONE
TZID:Europe/Paris
BEGIN:DAYLIGHT
TZOFFSETFROM:+0100
TZOFFSETTO:+0200
TZNAME:CEST
DTSTART:20240331T010000
END:DAYLIGHT
BEGIN:STANDARD
TZOFFSETFROM:+0200
TZOFFSETTO:+0100
TZNAME:CET
DTSTART:20241027T010000
END:STANDARD
END:VTIMEZONE
BEGIN:VEVENT
DTSTART;TZID=Europe/Paris:20241115T180000
DTEND;TZID=Europe/Paris:20241115T193000
DTSTAMP:20260423T081353
CREATED:20241107T094755Z
LAST-MODIFIED:20241107T094755Z
UID:1884-1731693600-1731699000@www.patrimoine-gallargues.fr
SUMMARY:Conférence sur "Le Cailar (Gard)\, un port gaulois fortifié  (VIe siècle - IIe siècle av. J-C)"
DESCRIPTION:Conférence donnée par Réjane Roure\, archéologue \nDepuis plus de 20 ans\, les fouilles au Cailar permettent de mieux connaitre cet important port lagunaire fortifié depuis le début du VIe s. av. J.-C. et occupé jusqu’au IIIe s. ap. J.-C. sans interruption. \nPort d’entrée des marchandises méditerranéennes (grecques\, étrusques\, phéniciennes\, ibériques puis romaines)\, le site a également livré un ensemble exceptionnel d’armes et de têtes coupées lié aux pratiques rituelles gauloises. \nAffiche ci-jointe. A publier sur le site svp\, merci. \nMerci de votre présence vendredi 15. D’ici-là\, bonne fête de la Saint-Martin… \n
URL:https://www.patrimoine-gallargues.fr/date/conference-sur-le-cailar-gard-un-port-gaulois-fortifie-vie-siecle-iie-siecle-av-j-c/
LOCATION:Salle de la gare\, avenue de la station
ATTACH;FMTTYPE=application/pdf:https://www.patrimoine-gallargues.fr/wp-content/uploads/sites/4/2024/11/Affiche_conf-Le-Cailar_15nov24.pdf
END:VEVENT
END:VCALENDAR