BEGIN:VCALENDAR
VERSION:2.0
PRODID:-//Patrimoine Gallargues - ECPv5.0.3.1//NONSGML v1.0//EN
CALSCALE:GREGORIAN
METHOD:PUBLISH
X-WR-CALNAME:Patrimoine Gallargues
X-ORIGINAL-URL:https://www.patrimoine-gallargues.fr
X-WR-CALDESC:Évènements pour Patrimoine Gallargues
BEGIN:VTIMEZONE
TZID:Europe/Paris
BEGIN:DAYLIGHT
TZOFFSETFROM:+0100
TZOFFSETTO:+0200
TZNAME:CEST
DTSTART:20240331T010000
END:DAYLIGHT
BEGIN:STANDARD
TZOFFSETFROM:+0200
TZOFFSETTO:+0100
TZNAME:CET
DTSTART:20241027T010000
END:STANDARD
END:VTIMEZONE
BEGIN:VEVENT
DTSTART;TZID=Europe/Paris:20240530T183000
DTEND;TZID=Europe/Paris:20240530T193000
DTSTAMP:20260423T222859
CREATED:20240329T084640Z
LAST-MODIFIED:20240527T073036Z
UID:1864-1717093800-1717097400@www.patrimoine-gallargues.fr
SUMMARY:Conférence  "La vie quotidienne à Gallargues et ses environs au temps des notaires royaux\, 1614-1791"
DESCRIPTION:Conférence par Bernard Février\, membre de l’Académie de Nîmes et du Centre Généalogique de Languedoc \n
URL:https://www.patrimoine-gallargues.fr/date/conference-la-vie-quotidienne-a-mus-vergeze-codognan-au-temps-des-notaires-royaux-1614-1791/
LOCATION:Salle de la gare\, avenue de la station
ATTACH;FMTTYPE=application/pdf:https://www.patrimoine-gallargues.fr/wp-content/uploads/sites/4/2024/03/affiche-confé-Gallargues-30-05-24-.pdf
END:VEVENT
END:VCALENDAR